BEGIN:VCALENDAR
VERSION:2.0
PRODID:-//CERN//INDICO//EN
BEGIN:VEVENT
SUMMARY:Speaker: Stefan Krieg
DTSTART:20260526T140000Z
DTEND:20260526T150000Z
DTSTAMP:20260425T143400Z
UID:indico-event-934@indico.physik.uni-siegen.de
CONTACT:anshika.bansal@uni-siegen.de
DESCRIPTION:Speakers: Stefan Krieg (Forschungszentrum\, Jülich)\n\nhttps:
 //indico.physik.uni-siegen.de/event/934/
LOCATION:D 308 (ENC)
URL:https://indico.physik.uni-siegen.de/event/934/
END:VEVENT
END:VCALENDAR
